BEGIN:VCALENDAR
VERSION:2.0
PRODID:-//QueBuena 94.5 FM - ECPv5.6.0//NONSGML v1.0//EN
CALSCALE:GREGORIAN
METHOD:PUBLISH
X-WR-CALNAME:QueBuena 94.5 FM
X-ORIGINAL-URL:https://www.quebuenareno.com
X-WR-CALDESC:Events for QueBuena 94.5 FM
BEGIN:VTIMEZONE
TZID:America/Boise
BEGIN:DAYLIGHT
TZOFFSETFROM:-0700
TZOFFSETTO:-0600
TZNAME:MDT
DTSTART:20260308T090000
END:DAYLIGHT
BEGIN:STANDARD
TZOFFSETFROM:-0600
TZOFFSETTO:-0700
TZNAME:MST
DTSTART:20261101T080000
END:STANDARD
END:VTIMEZONE
BEGIN:VEVENT
DTSTART;TZID=America/Boise:20260606T200000
DTEND;TZID=America/Boise:20260606T233000
DTSTAMP:20260424T082944
CREATED:20260127T183232Z
LAST-MODIFIED:20260316T151656Z
UID:71095-1780776000-1780788600@www.quebuenareno.com
SUMMARY:Little Joe y La Familia
DESCRIPTION:Sábado 6 de junio lánzate al Grande Exposition Hall en Silver Legacy para ver a Little Joe y La Familia!\nConocido como el “Rey del Brown Sound”\, Little Joe fue uno de los pioneros de la música tejana\, mezclando lo mejor del norteño tradicional con country\, blues y rock.\nSi te late la música regional con historia y mucho sabor\, este show no te lo puedes perder.
URL:https://www.quebuenareno.com/event/little-joe-y-la-familia/
LOCATION:Silver Legacy Grande Exposition Hall\, 407 N Virginia St\, Reno\, 89501\, United States
CATEGORIES:Conciertos
ATTACH;FMTTYPE=image/png:https://dehayf5mhw1h7.cloudfront.net/wp-content/uploads/sites/2177/2026/01/27183232/little-joe-silver-legacy-banner-final.png
END:VEVENT
BEGIN:VEVENT
DTSTART;TZID=America/Boise:20260813T080000
DTEND;TZID=America/Boise:20260813T170000
DTSTAMP:20260424T082944
CREATED:20260309T120010Z
LAST-MODIFIED:20260309T120103Z
UID:71237-1786608000-1786640400@www.quebuenareno.com
SUMMARY:Grupo Frontera
DESCRIPTION:¡Atención fans de la música! Grupo Frontera llega a los Festival Grounds del J Resort el 13 de agosto.\nDisfruta de lo mejor del Norteño y la cumbia\, fusionando sonidos tradicionales con influencias modernas.Gana tus boletos antes que salgan a la venta  los boletos estarán a la venta a partir del 13 de marzo.¡No te pierdas esta noche inolvidable con Grupo Frontera!
URL:https://www.quebuenareno.com/event/grupo-frontera/
LOCATION:J Resort\, 345 N Arlington Ave\, Reno\, 89501
CATEGORIES:Conciertos
ATTACH;FMTTYPE=image/jpeg:https://dehayf5mhw1h7.cloudfront.net/wp-content/uploads/sites/2177/2026/03/06154020/grupo-frontera-triste-pero-bien-cabron-slider.jpg
END:VEVENT
END:VCALENDAR